BEGIN:VCALENDAR
VERSION:2.0
PRODID:-//Covenant Living of Northbrook - ECPv6.15.18//NONSGML v1.0//EN
CALSCALE:GREGORIAN
METHOD:PUBLISH
X-ORIGINAL-URL:https://www.covlivingnorthbrook.org
X-WR-CALDESC:Events for Covenant Living of Northbrook
REFRESH-INTERVAL;VALUE=DURATION:PT1H
X-Robots-Tag:noindex
X-PUBLISHED-TTL:PT1H
BEGIN:VTIMEZONE
TZID:America/Chicago
BEGIN:DAYLIGHT
TZOFFSETFROM:-0600
TZOFFSETTO:-0500
TZNAME:CDT
DTSTART:20220313T080000
END:DAYLIGHT
BEGIN:STANDARD
TZOFFSETFROM:-0500
TZOFFSETTO:-0600
TZNAME:CST
DTSTART:20221106T070000
END:STANDARD
BEGIN:DAYLIGHT
TZOFFSETFROM:-0600
TZOFFSETTO:-0500
TZNAME:CDT
DTSTART:20230312T080000
END:DAYLIGHT
BEGIN:STANDARD
TZOFFSETFROM:-0500
TZOFFSETTO:-0600
TZNAME:CST
DTSTART:20231105T070000
END:STANDARD
BEGIN:DAYLIGHT
TZOFFSETFROM:-0600
TZOFFSETTO:-0500
TZNAME:CDT
DTSTART:20240310T080000
END:DAYLIGHT
BEGIN:STANDARD
TZOFFSETFROM:-0500
TZOFFSETTO:-0600
TZNAME:CST
DTSTART:20241103T070000
END:STANDARD
END:VTIMEZONE
BEGIN:VEVENT
DTSTART;TZID=America/Chicago:20230426T103000
DTEND;TZID=America/Chicago:20230426T103000
DTSTAMP:20260419T112813
CREATED:20230118T195139Z
LAST-MODIFIED:20230118T195139Z
UID:10000111-1682505000-1682505000@www.covlivingnorthbrook.org
SUMMARY:Brunch & Browse
DESCRIPTION:Here’s a great way for first-time visitors to experience our welcoming and engaging lifestyle. Enjoy a delicious brunch\, tour the residences\, explore the amenities and learn how a continuing care retirement community can offer you security and peace of mind. Bring your questions!
URL:https://www.covlivingnorthbrook.org/event/brunch-browse-2/
LOCATION:IL
CATEGORIES:General
ATTACH;FMTTYPE=image/jpeg:https://www.covlivingnorthbrook.org/wp-content/uploads/2023/01/CLN-026-4_26-Thumbnail.jpg
END:VEVENT
END:VCALENDAR